BEGIN:VCALENDAR
VERSION:2.0
PRODID:-//Cropwell Butler Parish Council//Meeting Calendar//EN
CALSCALE:GREGORIAN
METHOD:PUBLISH
BEGIN:VEVENT
UID:70543-20250609@cropwellbutler-pc.gov.uk
DTSTAMP:20260423T162902Z
DTSTART;VALUE=DATE:20250609
DTEND;VALUE=DATE:20250610
SUMMARY:Council Meeting &#8211\\; 9 June 2025
DESCRIPTION:Full Council Meeting\nView details: https://cropwellbutler-pc.gov.uk/meetings/council-meeting-9-june-2025/
URL:https://cropwellbutler-pc.gov.uk/meetings/council-meeting-9-june-2025/
END:VEVENT
END:VCALENDAR
