BEGIN:VCALENDAR
VERSION:2.0
PRODID:-//Cropwell Butler Parish Council//Meeting Calendar//EN
CALSCALE:GREGORIAN
METHOD:PUBLISH
BEGIN:VEVENT
UID:70546-20250114@cropwellbutler-pc.gov.uk
DTSTAMP:20260423T164928Z
DTSTART;VALUE=DATE:20250114
DTEND;VALUE=DATE:20250115
SUMMARY:Council Meeting – 14 January 2025
DESCRIPTION:Full Council Meeting\nView details: https://cropwellbutler-pc.gov.uk/meetings/council-meeting-14-january-2025/
URL:https://cropwellbutler-pc.gov.uk/meetings/council-meeting-14-january-2025/
END:VEVENT
END:VCALENDAR
