BEGIN:VCALENDAR
VERSION:2.0
PRODID:-//Cropwell Butler Parish Council//Meeting Calendar//EN
CALSCALE:GREGORIAN
METHOD:PUBLISH
BEGIN:VEVENT
UID:70549-20250210@cropwellbutler-pc.gov.uk
DTSTAMP:20260423T164437Z
DTSTART;VALUE=DATE:20250210
DTEND;VALUE=DATE:20250211
SUMMARY:Council Meeting &#8211\\; 10 February 2025
DESCRIPTION:Full Council Meeting\nView details: https://cropwellbutler-pc.gov.uk/meetings/council-meeting-10-february-2025/
URL:https://cropwellbutler-pc.gov.uk/meetings/council-meeting-10-february-2025/
END:VEVENT
END:VCALENDAR
