BEGIN:VCALENDAR
VERSION:2.0
PRODID:-//Cropwell Butler Parish Council//Meeting Calendar//EN
CALSCALE:GREGORIAN
METHOD:PUBLISH
BEGIN:VEVENT
UID:70563-20250512@cropwellbutler-pc.gov.uk
DTSTAMP:20260423T163226Z
DTSTART;VALUE=DATE:20250512
DTEND;VALUE=DATE:20250513
SUMMARY:Council Meeting – 12 May 2025
DESCRIPTION:Full Council Meeting\nView details: https://cropwellbutler-pc.gov.uk/meetings/annual-council-meeting-12-may-2025/
URL:https://cropwellbutler-pc.gov.uk/meetings/annual-council-meeting-12-may-2025/
END:VEVENT
END:VCALENDAR
