BEGIN:VCALENDAR
VERSION:2.0
PRODID:-//Cropwell Butler Parish Council//Meeting Calendar//EN
CALSCALE:GREGORIAN
METHOD:PUBLISH
BEGIN:VEVENT
UID:70600-20230101@cropwellbutler-pc.gov.uk
DTSTAMP:20260423T150723Z
DTSTART;VALUE=DATE:20230101
DTEND;VALUE=DATE:20230102
SUMMARY:Council Meetings – 2023
DESCRIPTION:Full Council Meeting\nView details: https://cropwellbutler-pc.gov.uk/meetings/council-meetings-2023/
URL:https://cropwellbutler-pc.gov.uk/meetings/council-meetings-2023/
END:VEVENT
END:VCALENDAR
