BEGIN:VCALENDAR
VERSION:2.0
PRODID:-//Cropwell Butler Parish Council//Meeting Calendar//EN
CALSCALE:GREGORIAN
METHOD:PUBLISH
BEGIN:VEVENT
UID:71259-20251013@cropwellbutler-pc.gov.uk
DTSTAMP:20260423T144616Z
DTSTART;VALUE=DATE:20251013
DTEND;VALUE=DATE:20251014
SUMMARY:Council Meeting &#8211\\; 13 October 2025
DESCRIPTION:Full Council Meeting\nView details: https://cropwellbutler-pc.gov.uk/meetings/council-meeting-13-october-2025/
URL:https://cropwellbutler-pc.gov.uk/meetings/council-meeting-13-october-2025/
END:VEVENT
END:VCALENDAR
