BEGIN:VCALENDAR
VERSION:2.0
PRODID:-//Cropwell Butler Parish Council//Meeting Calendar//EN
CALSCALE:GREGORIAN
METHOD:PUBLISH
BEGIN:VEVENT
UID:71260-20251110@cropwellbutler-pc.gov.uk
DTSTAMP:20260423T144145Z
DTSTART;VALUE=DATE:20251110
DTEND;VALUE=DATE:20251111
SUMMARY:Council Meeting &#8211\\; 10 November 2025
DESCRIPTION:Full Council Meeting\nView details: https://cropwellbutler-pc.gov.uk/meetings/council-meeting-10-november-2025/
URL:https://cropwellbutler-pc.gov.uk/meetings/council-meeting-10-november-2025/
END:VEVENT
END:VCALENDAR
