BEGIN:VCALENDAR
VERSION:2.0
PRODID:-//Cropwell Butler Parish Council//Meeting Calendar//EN
CALSCALE:GREGORIAN
METHOD:PUBLISH
BEGIN:VEVENT
UID:71261-20251208@cropwellbutler-pc.gov.uk
DTSTAMP:20260423T144907Z
DTSTART;VALUE=DATE:20251208
DTEND;VALUE=DATE:20251209
SUMMARY:Council Meeting &#8211\\; 8 December 2025
DESCRIPTION:Full Council Meeting\nView details: https://cropwellbutler-pc.gov.uk/meetings/council-meeting-8-december-2025/
URL:https://cropwellbutler-pc.gov.uk/meetings/council-meeting-8-december-2025/
END:VEVENT
END:VCALENDAR
