BEGIN:VCALENDAR
VERSION:2.0
PRODID:-//Cropwell Butler Parish Council//Meeting Calendar//EN
CALSCALE:GREGORIAN
METHOD:PUBLISH
BEGIN:VEVENT
UID:71267-20260608@cropwellbutler-pc.gov.uk
DTSTAMP:20260423T083352Z
DTSTART;VALUE=DATE:20260608
DTEND;VALUE=DATE:20260609
SUMMARY:Council Meeting &#8211\\; 8 June 2026
DESCRIPTION:Full Council Meeting\nView details: https://cropwellbutler-pc.gov.uk/meetings/council-meeting-8-june-2026/
URL:https://cropwellbutler-pc.gov.uk/meetings/council-meeting-8-june-2026/
END:VEVENT
END:VCALENDAR
