BEGIN:VCALENDAR
VERSION:2.0
PRODID:-//Cropwell Butler Parish Council//Meeting Calendar//EN
CALSCALE:GREGORIAN
METHOD:PUBLISH
BEGIN:VEVENT
UID:71445-20250714@cropwellbutler-pc.gov.uk
DTSTAMP:20260423T162742Z
DTSTART;VALUE=DATE:20250714
DTEND;VALUE=DATE:20250715
SUMMARY:Council Meeting &#8211\\; 14 July 2025
DESCRIPTION:Full Council Meeting\nView details: https://cropwellbutler-pc.gov.uk/meetings/council-meeting-14-july-2025/
URL:https://cropwellbutler-pc.gov.uk/meetings/council-meeting-14-july-2025/
END:VEVENT
END:VCALENDAR
